BEGIN:VCALENDAR
VERSION:2.0
PRODID:-//Simple Meditation - ECPv6.15.20//NONSGML v1.0//EN
CALSCALE:GREGORIAN
METHOD:PUBLISH
X-WR-CALNAME:Simple Meditation
X-ORIGINAL-URL:https://www.simplemeditation.net
X-WR-CALDESC:Events for Simple Meditation
REFRESH-INTERVAL;VALUE=DURATION:PT1H
X-Robots-Tag:noindex
X-PUBLISHED-TTL:PT1H
BEGIN:VTIMEZONE
TZID:Australia/Sydney
BEGIN:STANDARD
TZOFFSETFROM:+1100
TZOFFSETTO:+1000
TZNAME:AEST
DTSTART:20250405T160000
END:STANDARD
BEGIN:DAYLIGHT
TZOFFSETFROM:+1000
TZOFFSETTO:+1100
TZNAME:AEDT
DTSTART:20251004T160000
END:DAYLIGHT
BEGIN:STANDARD
TZOFFSETFROM:+1100
TZOFFSETTO:+1000
TZNAME:AEST
DTSTART:20260404T160000
END:STANDARD
BEGIN:DAYLIGHT
TZOFFSETFROM:+1000
TZOFFSETTO:+1100
TZNAME:AEDT
DTSTART:20261003T160000
END:DAYLIGHT
BEGIN:STANDARD
TZOFFSETFROM:+1100
TZOFFSETTO:+1000
TZNAME:AEST
DTSTART:20270403T160000
END:STANDARD
BEGIN:DAYLIGHT
TZOFFSETFROM:+1000
TZOFFSETTO:+1100
TZNAME:AEDT
DTSTART:20271002T160000
END:DAYLIGHT
END:VTIMEZONE
BEGIN:VEVENT
DTSTART;TZID=Australia/Sydney:20260425T080000
DTEND;TZID=Australia/Sydney:20260425T100000
DTSTAMP:20260422T125523
CREATED:20260302T022519Z
LAST-MODIFIED:20260331T032725Z
UID:37561-1777104000-1777111200@www.simplemeditation.net
SUMMARY:Zoom Weekend Retreat\, S1 Saturday 25 April
DESCRIPTION:Session 1: \n8am–10am (Melbourne\, Australia\, AEST) \nEach 2hr session starts with a Welcome talk\, followed by a  \nhalf-hour Meditation (may incl. guidance)\, \n10-mins (optional) Slow meditative walk\, \nhalf-hour Meditation\, \n10-mins Tea break\, \n40-mins Question/discussion time with Linda.  \nCost: AUD$35 per session\, or AUD$120 for all sessions 1-4\, over 2 days.
URL:https://www.simplemeditation.net/event/zoom-weekend-retreat-s1-saturday-25-april/
LOCATION:ONLINE\, Australia
CATEGORIES:Online Meditation Retreat
END:VEVENT
BEGIN:VEVENT
DTSTART;TZID=Australia/Sydney:20260425T160000
DTEND;TZID=Australia/Sydney:20260425T180000
DTSTAMP:20260422T125523
CREATED:20260302T022602Z
LAST-MODIFIED:20260331T032750Z
UID:37564-1777132800-1777140000@www.simplemeditation.net
SUMMARY:Zoom Weekend Retreat\, S2 Saturday 25 April
DESCRIPTION:Session 2: \n4pm–6pm (Melbourne\, Australia\, AEST) \nEach 2hr session starts with a Welcome talk\, followed by a  \nhalf-hour Meditation (may incl. guidance)\, \n10-mins (optional) Slow meditative walk\, \nhalf-hour Meditation\, \n10-mins Tea break\, \n40-mins Question/discussion time with Linda.  \nCost: AUD$35 per session\, or AUD$120 for all sessions 1-4\, over 2 days.
URL:https://www.simplemeditation.net/event/zoom-weekend-retreat-s2-saturday-25-april/
LOCATION:ONLINE\, Australia
CATEGORIES:Online Meditation Retreat
END:VEVENT
BEGIN:VEVENT
DTSTART;TZID=Australia/Sydney:20260426T080000
DTEND;TZID=Australia/Sydney:20260426T100000
DTSTAMP:20260422T125523
CREATED:20260302T022649Z
LAST-MODIFIED:20260331T032821Z
UID:37566-1777190400-1777197600@www.simplemeditation.net
SUMMARY:Zoom Weekend Retreat\, S3 Sunday 26 April
DESCRIPTION:Session 3: \n8am–10am (Melbourne\, Australia\, AEST) \nEach 2hr session starts with a Welcome talk\, followed by a  \nhalf-hour Meditation (may incl. guidance)\, \n10-mins (optional) Slow meditative walk\, \nhalf-hour Meditation\, \n10-mins Tea break\, \n40-mins Question/discussion time with Linda.  \nCost: AUD$35 per session\, or AUD$120 for all sessions 1-4\, over 2 days.
URL:https://www.simplemeditation.net/event/zoom-weekend-retreat-s3-sunday-26-april/
LOCATION:ONLINE\, Australia
CATEGORIES:Online Meditation Retreat
END:VEVENT
BEGIN:VEVENT
DTSTART;TZID=Australia/Sydney:20260426T160000
DTEND;TZID=Australia/Sydney:20260426T180000
DTSTAMP:20260422T125523
CREATED:20260302T022844Z
LAST-MODIFIED:20260331T032846Z
UID:37568-1777219200-1777226400@www.simplemeditation.net
SUMMARY:Zoom Weekend Retreat\, S4 Sunday 26 April
DESCRIPTION:Session 4: \n4pm–6pm (Melbourne\, Australia\, AEST) \nEach 2hr session starts with a Welcome talk\, followed by a  \nhalf-hour Meditation (may incl. guidance)\, \n10-mins (optional) Slow meditative walk\, \nhalf-hour Meditation\, \n10-mins Tea break\, \n40-mins Question/discussion time with Linda.  \nCost: AUD$35 per session\, or AUD$120 for all sessions 1-4\, over 2 days.
URL:https://www.simplemeditation.net/event/zoom-weekend-retreat-s4-sunday-26-april/
LOCATION:ONLINE\, Australia
CATEGORIES:Online Meditation Retreat
END:VEVENT
END:VCALENDAR